{"text_format":"1","workbook":"xlsx","n_sheets":12,"sheets":["Dashboard","Data","Corporatie A","Corporatie B","Corporatie C","Corporatie D","Corporatie E","Corporatie F","Corporatie G","Corporatie H","Corporatie I","Corporatie J"],"not_rendered":{"charts":10,"images":140,"macros":1,"external_links":0,"defined_names":3,"comments":0,"pivot_tables":0},"unopened":[],"bounds":{"document_bytes":16777216,"sheet_cells":100000,"rows_first":2000,"rows_last":500,"rows_between":2000,"halvings":0,"cell_chars":16384,"cell_head_chars":4096},"cells_cut":0,"cells_raw":0,"read":"whole","date_system":"1900"}

{"sheet":"Dashboard","index":0,"n_rows":5,"n_cols":2,"rows_kept":5,"cut":false,"hidden":false,"merged":[[4,1,5,6],[31,10,39,14],[30,1,30,9],[12,19,12,20],[20,12,20,15]]}
[]
[]
[]
[]
[null,"DASHBOARD BOUWSTROOM"]

{"sheet":"Data","index":1,"n_rows":167,"n_cols":16,"rows_kept":167,"cut":false,"hidden":true,"merged":[]}
[]
[]
[]
[]
[null,"DATA"]
[]
[]
[null,"Antwoorden op alle vragen "]
["Woningcorporatie","aantal woningen","Beschikbare capaciteit","Kennis en ervaring conceptwoningen","Kennis en ervaring functioneel specificeren","bekend met PMC's","Inkoop- en aanbestedingsbeleid","Kennis van modelcontracten","Inkoopkennis","Eerdere inkoopsamenwerking","Kennis inkoopsamenwerking","(On)evenwichtigheid","Kosten inschrijving vergoeden","Duidelijkheid gunningscriterium","Motivatie uitslag aanbesteding","Rechtsbescherming marktpartijen"]
[{"$f":"'Corporatie A'!$E$7","v":0},{"$f":"'Corporatie A'!D14","v":0},3,1,1,1,1,1,1,1,1,1,1,1,1,1]
[{"$f":"'Corporatie B'!E7","v":0},{"$f":"'Corporatie B'!D14","v":0},1,1,1,1,1,1,1,1,1,1,1,1,1,1]
[{"$f":"'Corporatie C'!E7","v":0},{"$f":"'Corporatie C'!D14","v":0},1,1,1,1,1,1,1,1,1,1,1,1,1,1]
[{"$f":"'Corporatie D'!E7","v":0},{"$f":"'Corporatie D'!D14","v":0},1,1,1,1,1,1,1,1,1,1,1,1,1,1]
[{"$f":"'Corporatie E'!$E$7","v":0},{"$f":"'Corporatie E'!$D$14","v":0},1,1,1,1,1,1,1,1,1,1,1,1,1,1]
[{"$f":"'Corporatie F'!E7","v":0},{"$f":"'Corporatie F'!D14","v":0},1,1,1,1,1,1,1,1,1,1,1,1,1,1]
[{"$f":"'Corporatie G'!E7","v":0},{"$f":"'Corporatie G'!D14","v":0},1,1,1,1,1,1,1,1,1,1,1,1,1,1]
[{"$f":"'Corporatie H'!E7","v":0},{"$f":"'Corporatie H'!D14","v":0},1,1,1,1,1,1,1,1,1,1,1,1,1,1]
[{"$f":"'Corporatie I'!$E$7","v":0},{"$f":"'Corporatie I'!$D$14","v":0},1,1,1,1,1,1,1,1,1,1,1,1,1,1]
[{"$f":"'Corporatie J'!E7","v":0},{"$f":"'Corporatie J'!D14","v":0},1,1,1,1,1,1,1,1,1,1,1,1,1,1]
[]
[null,"Gecombineerde antwoorden naar thema's"]
["Woningcorporatie","Aantal woningen","Beschikbare capaciteit","Productkennis","Inkoop","Inkoopsamenwerking","Hoofdbeginselen aanbesteden"]
[{"$f":"A10","v":0},{"$f":"B10","v":0},{"$f":"C10","v":3},{"$f":"AVERAGE(D10:F10)","v":1},{"$f":"(AVERAGE(G10:I10))","v":1},{"$f":"AVERAGE(J10:K10)","v":1},{"$f":"AVERAGE(L10:P10)","v":1},null,true]
[0,{"$f":"B11","v":0},1,{"$f":"AVERAGE(D11:F11)","v":1},1,1,1,null,true]
[0,0,1,1,1,1,1,null,true]
[0,0,1,1,1,1,1,null,true]
[0,0,1,1,1,1,1,null,true]
[0,0,1,1,1,1,1,null,true]
[0,0,1,1,1,1,1,null,true]
[0,0,1,1,1,1,1,null,true]
[0,0,1,1,1,1,1,null,true]
[0,0,1,1,1,1,1,null,true]
[]
[]
[null,"Data die in het dashboard getoond wordt"]
["Woningcorporatie","Aantal woningen","Beschikbare capaciteit","Productkennis","Inkoop","Inkoopsamenwerking","Hoofdbeginselen aanbesteden"]
[{"$f":"IF($I23,A23,\"\")","v":0},0,{"$f":"IF($I$23,C23,\"\")","v":3},{"$f":"IF($I$23,D23,\"\")","v":1},{"$f":"IF($I$23,E23,\"\")","v":1},{"$f":"IF($I$23,F23,\"\")","v":1},{"$f":"IF($I$23,G23,\"\")","v":1}]
[0,0,{"$f":"IF($I$24,C24,\"\")","v":1},{"$f":"IF($I$24,D24,\"\")","v":1},{"$f":"IF($I$24,E24,\"\")","v":1},{"$f":"IF($I$24,F24,\"\")","v":1},{"$f":"IF($I$24,G24,\"\")","v":1}]
[0,0,{"$f":"IF($I$25,C25,\"\")","v":1},{"$f":"IF($I$25,D25,\"\")","v":1},{"$f":"IF($I$25,E25,\"\")","v":1},{"$f":"IF($I$25,F25,\"\")","v":1},{"$f":"IF($I$25,G25,\"\")","v":1}]
[0,0,{"$f":"IF($I$26,C26,\"\")","v":1},{"$f":"IF($I$26,D26,\"\")","v":1},{"$f":"IF($I26,E26,\"\")","v":1},1,1]
[0,0,{"$f":"IF($I$27,C27,\"\")","v":1},{"$f":"IF($I$27,D27,\"\")","v":1},1,1,1]
[0,0,{"$f":"IF($I$28,C28,\"\")","v":1},{"$f":"IF($I$28,D28,\"\")","v":1},1,1,1]
[0,0,{"$f":"IF($I$29,C29,\"\")","v":1},{"$f":"IF($I$29,D29,\"\")","v":1},1,1,1]
[0,0,{"$f":"IF($I$30,C30,\"\")","v":1},{"$f":"IF($I$30,D30,\"\")","v":1},1,1,1]
[0,0,{"$f":"IF($I$31,C31,\"\")","v":1},{"$f":"IF($I$31,D31,\"\")","v":1},1,1,1]
[0,0,{"$f":"IF($I$32,C32,\"\")","v":1},{"$f":"IF($I$32,D32,\"\")","v":1},1,1,1]
[]
[]
[]
[]
[null,"Berekeningen voor 'speedometer' grafieken"]
[]
[]
["Verdeeldheid in hoofdbeginselen van aanbesteden"]
["speedometer' grafiek","aanwijzer",null,"kleur","advies"]
[33,{"$f":"IFERROR(_xlfn.STDEV.P(Tabel46[Hoofdbeginselen aanbesteden])/2*100,0)","v":0},null,"groen","Geen grote verschillen, op het gebied van omgaan met transparantie, gelijke behandeling, proportionaliteit en objectiviteit worden er geen grote knelpunten verwacht"]
[34,1,null,"geel","Enige verschillen, het is raadzaam om in de gaten te houden dat de deelnemende partijen op het gebied van omgaan met transparantie, gelijke behandeling, proportionaliteit en objectiviteit dichter bij elkaar komen "]
[33,{"$f":"200-B57-B56","v":199},null,"rood","Grote verschillen, het is essentieel om het gesprek te voeren over hoe om te gaan met transparantie, gelijke behandeling, proportionaliteit en objectiviteit voordat de deelnemende partijen volgende stappen zetten"]
[100]
[null,null,null,"Tekst:",{"$f":"IF(B56<=A56,E56,IF(B56<=67,E57,E58))","v":"Geen grote verschillen, op het gebied van omgaan met transparantie, gelijke behandeling, proportionaliteit en objectiviteit worden er geen grote knelpunten verwacht"}]
[]
["Capaciteit "]
["speedometer' grafiek","aanwijzer",null,"kleur","advies"]
[33,{"$f":"IF(MAX(Tabel46[Beschikbare capaciteit])=0,100,100-((MAX(Tabel46[Beschikbare capaciteit])-1)/4*100))","v":50},null,"groen","Er is voldoende capaciteit beschikbaar bij de gezamenlijke woningcorporaties."]
[34,1,null,"geel","Er is niet veel capaciteit beschikbaar, mogelijk is het handig om (op onderdelen) extra capaciteit in te huren."]
[33,{"$f":"200-B65-B64","v":149},null,"rood","Er is niet genoeg capaciteit beschikbaar, er is extra capaciteit nodig om de samenwerking goed te laten verlopen."]
[100]
[null,null,null,"Tekst:",{"$f":"IF((100-B64)<=A64,E66,IF((100-B64)<=67,E65,E64))","v":"Er is niet veel capaciteit beschikbaar, mogelijk is het handig om (op onderdelen) extra capaciteit in te huren."}]
[]
[]
[null,"Berekening voor 'stoplicht' grafieken"]
[]
[]
["Voldoende kennis en ervaring op thema's"]
["waarde","Product","inkoopsamenwerking","Inkoop"]
[2.5]
[3.5]
[5]
[]
[]
["Product","Rood:","Geel:","Groen:"]
[{"$f":"MAX(Tabel46[Productkennis])","v":1},{"$f":"(A82<=A76)*1","v":1},{"$f":"(A82>A76)*(A82<=A77)*1","v":0},{"$f":"(A82>A77)*1","v":0}]
[]
["Inkoopsamenwerking","Rood:","Geel:","Groen:"]
[{"$f":"MAX(Tabel46[Inkoopsamenwerking])","v":1},{"$f":"(A85<=A76)*1","v":1},{"$f":"(A85>A76)*(A85<=A77)*1","v":0},{"$f":"(A85>A77)*1","v":0}]
[]
["Inkoop","Rood:","Geel:","Groen:"]
[{"$f":"MAX(Tabel46[Inkoop])","v":1},{"$f":"(A88<=A76)*1","v":1},{"$f":"(A88>A76)*(A88<=A77)*1","v":0},{"$f":"(A88>A77)*1","v":0}]
[]
[]
[null,"Samenwerking"]
[]
[]
["Samenwerkingsdoelstellingen:"]
["Corporatie","Kostenreductie","Versnelling","Duurzaamheid","Risicoreductie","Kennisdeling","Klanttevredenheid verhogen","Continuïteit in de realisatie van projecten vergroten"]
[{"$f":"A10","v":0},false,false,false,false,false,false,false]
[0,false,false,false,false,false,false,false]
[0,false,false,false,false,false,false,false]
[0,false,false,false,false,false,false,false]
[0,false,false,false,false,false,false,false]
[0,false,false,false,false,false,false,false]
[0,false,false,false,false,false,false,false]
[0,false,false,false,false,false,false,false]
[0,false,false,false,false,false,false,false]
[0,false,false,false,false,false,false,false]
[]
["Corporatie","Kostenreductie","Versnelling","Duurzaamheid","Risicoreductie","Kennisdeling","Klanttevredenheid verhogen","Continuïteit in de realisatie van projecten vergroten"]
[{"$f":"IF($I$23,A96,\"\")","v":0},{"$f":"IF($I$23,B96,\"\")","v":false},false,false,false,false,false,false]
[{"$f":"IF($I$24,A97,\"\")","v":0},false,false,false,false,false,false,false]
[{"$f":"IF($I$25,A98,\"\")","v":0},false,false,false,false,false,false,false]
[{"$f":"IF($I$26,A99,\"\")","v":0},false,false,false,false,false,false,false]
[{"$f":"IF($I$27,A100,\"\")","v":0},false,false,false,false,false,false,false]
[{"$f":"IF($I$28,A101,\"\")","v":0},false,false,false,false,false,false,false]
[{"$f":"IF($I$29,A102,\"\")","v":0},false,false,false,false,false,false,false]
[{"$f":"IF($I$30,A103,\"\")","v":0},false,false,false,false,false,false,false]
[{"$f":"IF($I$31,A104,\"\")","v":0},false,false,false,false,false,false,false]
[{"$f":"IF($I$32,A105,\"\")","v":0},false,false,false,false,false,false,false]
[]
[]
[]
[null,"PMC aantallen"]
[]
["Data ophalen uit formulieren"]
["Corporatie","PMC 1","PMC 2","PMC 3","PMC 4","PMC 6","PMC 7","PMC 8","PMC 9","PMC 11","PMC 12","PMC 13","PMC 14"]
[{"$f":"A10","v":0},"0","0","0","0","0","0","0","0","0","0","0","0"]
[0,"0","0","0","0","0","0","0","0","0","0","0","0"]
[0,"0","0","0","0","0","0","0","0","0","0","0","0"]
[0,"0","0","0","0","0","0","0","0","0","0","0","0"]
[0,"0","0","0","0","0","0","0","0","0","0","0","0"]
[0,"0","0","0","0","0","0","0","0","0","0","0","0"]
[0,"0","0","0","0","0","0","0","0","0","0","0","0"]
[{"$f":"A17","v":0},"0","0","0","0","0","0","0","0","0","0","0","0"]
[{"$f":"A18","v":0},"0","0","0","0","0","0","0","0","0","0","0","0"]
[{"$f":"A19","v":0},"0","0","0","0","0","0","0","0","0","0","0","0"]
[]
[]
[]
[]
[]
[]
["Data format naar nummers"]
["Corporatie","PMC 1","PMC 2","PMC 3","PMC 4","PMC 6","PMC 7","PMC 8","PMC 9","PMC 11","PMC 12","PMC 13","PMC 14"]
[{"$f":"A10","v":0},{"$f":"VALUE(B125)","v":0},0,0,0,0,0,0,0,0,0,0,0]
[0,{"$f":"VALUE(B126)","v":0},0,0,0,0,0,0,0,0,0,0,0]
[0,{"$f":"VALUE(B127)","v":0},0,0,0,0,0,0,0,0,0,0,0]
[0,{"$f":"VALUE(B128)","v":0},0,0,0,0,0,0,0,0,0,0,0]
[0,0,0,0,0,0,0,0,0,0,0,0,0]
[0,{"$f":"VALUE(B130)","v":0},0,0,0,0,0,0,0,0,0,0,0]
[0,{"$f":"VALUE(B131)","v":0},0,0,0,0,0,0,0,0,0,0,0]
[0,{"$f":"VALUE(B132)","v":0},0,0,0,0,0,0,0,0,0,0,0]
[0,{"$f":"VALUE(B133)","v":0},0,0,0,0,0,0,0,0,0,0,0]
[0,{"$f":"VALUE(B134)","v":0},0,0,0,0,0,0,0,0,0,0,0]
[]
[]
[]
["Data voor in dashboard"]
["Corporatie","PMC 1","PMC 2","PMC 3","PMC 4","PMC 6","PMC 7","PMC 8","PMC 9","PMC 11","PMC 12","PMC 13","PMC 14"]
[{"$f":"IF($I$23,A143,\"\")","v":0},0,0,0,0,0,0,0,0,0,0,0,0]
[{"$f":"IF($I$24,A144,\"\")","v":0},0,0,0,0,0,0,0,0,0,0,0,0]
[{"$f":"IF($I$25,A145,\"\")","v":0},{"$f":"IF($I$25,B145,\"\")","v":0},0,0,0,0,0,0,0,0,0,0,0]
[{"$f":"IF($I$26,A146,\"\")","v":0},{"$f":"IF($I$26,B146,\"\")","v":0},0,0,0,0,0,0,0,0,0,0,0]
[{"$f":"IF($I$27,A147,\"\")","v":0},{"$f":"IF($I$27,B147,\"\")","v":0},0,0,0,0,0,0,0,0,0,0,0]
[{"$f":"IF($I$28,A148,\"\")","v":0},{"$f":"IF($I$28,B148,\"\")","v":0},0,0,0,0,0,0,0,0,0,0,0]
[{"$f":"IF($I$29,A149,\"\")","v":0},{"$f":"IF($I$29,B149,\"\")","v":0},0,0,0,0,0,0,0,0,0,0,0]
[{"$f":"IF($I$30,A150,\"\")","v":0},{"$f":"IF($I$30,B150,\"\")","v":0},0,0,0,0,0,0,0,0,0,0,0]
[{"$f":"IF($I$31,A151,\"\")","v":0},{"$f":"IF($I$31,B151,\"\")","v":0},0,0,0,0,0,0,0,0,0,0,0]
[{"$f":"IF($I$32,A152,\"\")","v":0},{"$f":"IF($I$32,B152,\"\")","v":0},0,0,0,0,0,0,0,0,0,0,0]

{"sheet":"Corporatie A","index":2,"n_rows":125,"n_cols":14,"rows_kept":125,"cut":false,"hidden":false,"merged":[]}
[]
[]
[]
[]
[null,"VRAGENFORMULIER WONINGCORPORATIE A"]
[]
[null,"Naam woningcorporatie:"]
[]
[]
[]
[]
[]
[]
[null,null,"Ongeveer",null,"woningen"]
[]
[]
[]
[]
[]
[]
[]
[]
[]
[]
[]
[]
[]
[]
[]
[]
[]
[]
[]
[]
[]
[]
[]
[]
[]
[]
[]
[]
[]
[]
[]
[]
[]
[]
[]
[]
[]
[]
[]
[]
[]
[]
[]
[]
[]
[]
[]
[]
[]
[]
[]
[]
[]
[]
[]
[]
[null,null,null,null,null,null,null,null,null,null,null,null,null," "]
[]
[]
[]
[]
[]
[]
[]
[]
[]
[]
[]
[]
[]
[]
[]
[]
[]
[]
[]
[]
[]
[]
[]
[]
[]
[]
[]
[]
[]
[]
[]
[]
[]
[]
[]
[]
[]
[]
[]
[]
[]
[]
[]
[]
[]
[]
[]
[]
[]
[]
[]
[]
[]
[null,"34"]

{"sheet":"Corporatie B","index":3,"n_rows":71,"n_cols":14,"rows_kept":71,"cut":false,"hidden":false,"merged":[]}
[]
[]
[]
[]
[null,"VRAGENFORMULIER WONINGCORPORATIE B"]
[]
[null,"Naam woningcorporatie:"]
[]
[]
[]
[]
[]
[]
[null,null,"Ongeveer",null,"woningen"]
[]
[]
[]
[]
[]
[]
[]
[]
[]
[]
[]
[]
[]
[]
[]
[]
[]
[]
[]
[]
[]
[]
[]
[]
[]
[]
[]
[]
[]
[]
[]
[]
[]
[]
[]
[]
[]
[]
[]
[]
[]
[]
[]
[]
[]
[]
[]
[]
[]
[]
[]
[]
[]
[]
[]
[]
[null,null,null,null,null,null,null,null,null,null,null,null,null," "]

{"sheet":"Corporatie C","index":4,"n_rows":71,"n_cols":14,"rows_kept":71,"cut":false,"hidden":false,"merged":[]}
[]
[]
[]
[]
[null,"VRAGENFORMULIER WONINGCORPORATIE C"]
[]
[null,"Naam woningcorporatie:"]
[]
[]
[]
[]
[]
[]
[null,null,"Ongeveer",null,"woningen"]
[]
[]
[]
[]
[]
[]
[]
[]
[]
[]
[]
[]
[]
[]
[]
[]
[]
[]
[]
[]
[]
[]
[]
[]
[]
[]
[]
[]
[]
[]
[]
[]
[]
[]
[]
[]
[]
[]
[]
[]
[]
[]
[]
[]
[]
[]
[]
[]
[]
[]
[]
[]
[]
[]
[]
[]
[null,null,null,null,null,null,null,null,null,null,null,null,null," "]

{"sheet":"Corporatie D","index":5,"n_rows":71,"n_cols":14,"rows_kept":71,"cut":false,"hidden":false,"merged":[]}
[]
[]
[]
[]
[null,"VRAGENFORMULIER WONINGCORPORATIE D"]
[]
[null,"Naam woningcorporatie:"]
[]
[]
[]
[]
[]
[]
[null,null,"Ongeveer",null,"woningen"]
[]
[]
[]
[]
[]
[]
[]
[]
[]
[]
[]
[]
[]
[]
[]
[]
[]
[]
[]
[]
[]
[]
[]
[]
[]
[]
[]
[]
[]
[]
[]
[]
[]
[]
[]
[]
[]
[]
[]
[]
[]
[]
[]
[]
[]
[]
[]
[]
[]
[]
[]
[]
[]
[]
[]
[]
[null,null,null,null,null,null,null,null,null,null,null,null,null," "]

{"sheet":"Corporatie E","index":6,"n_rows":71,"n_cols":14,"rows_kept":71,"cut":false,"hidden":false,"merged":[]}
[]
[]
[]
[]
[null,"VRAGENFORMULIER WONINGCORPORATIE E"]
[]
[null,"Naam woningcorporatie:"]
[]
[]
[]
[]
[]
[]
[null,null,"Ongeveer",null,"woningen"]
[]
[]
[]
[]
[]
[]
[]
[]
[]
[]
[]
[]
[]
[]
[]
[]
[]
[]
[]
[]
[]
[]
[]
[]
[]
[]
[]
[]
[]
[]
[]
[]
[]
[]
[]
[]
[]
[]
[]
[]
[]
[]
[]
[]
[]
[]
[]
[]
[]
[]
[]
[]
[]
[]
[]
[]
[null,null,null,null,null,null,null,null,null,null,null,null,null," "]

{"sheet":"Corporatie F","index":7,"n_rows":71,"n_cols":14,"rows_kept":71,"cut":false,"hidden":false,"merged":[]}
[]
[]
[]
[]
[null,"VRAGENFORMULIER WONINGCORPORATIE F"]
[]
[null,"Naam woningcorporatie:"]
[]
[]
[]
[]
[]
[]
[null,null,"Ongeveer",null,"woningen"]
[]
[]
[]
[]
[]
[]
[]
[]
[]
[]
[]
[]
[]
[]
[]
[]
[]
[]
[]
[]
[]
[]
[]
[]
[]
[]
[]
[]
[]
[]
[]
[]
[]
[]
[]
[]
[]
[]
[]
[]
[]
[]
[]
[]
[]
[]
[]
[]
[]
[]
[]
[]
[]
[]
[]
[]
[null,null,null,null,null,null,null,null,null,null,null,null,null," "]

{"sheet":"Corporatie G","index":8,"n_rows":71,"n_cols":14,"rows_kept":71,"cut":false,"hidden":false,"merged":[]}
[]
[]
[]
[]
[null,"VRAGENFORMULIER WONINGCORPORATIE G"]
[]
[null,"Naam woningcorporatie:"]
[]
[]
[]
[]
[]
[]
[null,null,"Ongeveer",null,"woningen"]
[]
[]
[]
[]
[]
[]
[]
[]
[]
[]
[]
[]
[]
[]
[]
[]
[]
[]
[]
[]
[]
[]
[]
[]
[]
[]
[]
[]
[]
[]
[]
[]
[]
[]
[]
[]
[]
[]
[]
[]
[]
[]
[]
[]
[]
[]
[]
[]
[]
[]
[]
[]
[]
[]
[]
[]
[null,null,null,null,null,null,null,null,null,null,null,null,null," "]

{"sheet":"Corporatie H","index":9,"n_rows":71,"n_cols":14,"rows_kept":71,"cut":false,"hidden":false,"merged":[]}
[]
[]
[]
[]
[null,"VRAGENFORMULIER WONINGCORPORATIE H"]
[]
[null,"Naam woningcorporatie:"]
[]
[]
[]
[]
[]
[]
[null,null,"Ongeveer",null,"woningen"]
[]
[]
[]
[]
[]
[]
[]
[]
[]
[]
[]
[]
[]
[]
[]
[]
[]
[]
[]
[]
[]
[]
[]
[]
[]
[]
[]
[]
[]
[]
[]
[]
[]
[]
[]
[]
[]
[]
[]
[]
[]
[]
[]
[]
[]
[]
[]
[]
[]
[]
[]
[]
[]
[]
[]
[]
[null,null,null,null,null,null,null,null,null,null,null,null,null," "]

{"sheet":"Corporatie I","index":10,"n_rows":71,"n_cols":14,"rows_kept":71,"cut":false,"hidden":false,"merged":[]}
[]
[]
[]
[]
[null,"VRAGENFORMULIER WONINGCORPORATIE I"]
[]
[null,"Naam woningcorporatie:"]
[]
[]
[]
[]
[]
[]
[null,null,"Ongeveer",null,"woningen"]
[]
[]
[]
[]
[]
[]
[]
[]
[]
[]
[]
[]
[]
[]
[]
[]
[]
[]
[]
[]
[]
[]
[]
[]
[]
[]
[]
[]
[]
[]
[]
[]
[]
[]
[]
[]
[]
[]
[]
[]
[]
[]
[]
[]
[]
[]
[]
[]
[]
[]
[]
[]
[]
[]
[]
[]
[null,null,null,null,null,null,null,null,null,null,null,null,null," "]

{"sheet":"Corporatie J","index":11,"n_rows":71,"n_cols":14,"rows_kept":71,"cut":false,"hidden":false,"merged":[]}
[]
[]
[]
[]
[null,"VRAGENFORMULIER WONINGCORPORATIE J"]
[]
[null,"Naam woningcorporatie:"]
[]
[]
[]
[]
[]
[]
[null,null,"Ongeveer",null,"woningen"]
[]
[]
[]
[]
[]
[]
[]
[]
[]
[]
[]
[]
[]
[]
[]
[]
[]
[]
[]
[]
[]
[]
[]
[]
[]
[]
[]
[]
[]
[]
[]
[]
[]
[]
[]
[]
[]
[]
[]
[]
[]
[]
[]
[]
[]
[]
[]
[]
[]
[]
[]
[]
[]
[]
[]
[]
[null,null,null,null,null,null,null,null,null,null,null,null,null," "]